BEGIN:VCALENDAR
VERSION:2.0
PRODID:-//こねこ惑星　クリエイターズブログ - ECPv6.5.1.5//NONSGML v1.0//EN
CALSCALE:GREGORIAN
METHOD:PUBLISH
X-ORIGINAL-URL:https://blogs.koneko-wakusei.com
X-WR-CALDESC:こねこ惑星　クリエイターズブログ のイベント
REFRESH-INTERVAL;VALUE=DURATION:PT1H
X-Robots-Tag:noindex
X-PUBLISHED-TTL:PT1H
BEGIN:VTIMEZONE
TZID:Asia/Tokyo
BEGIN:STANDARD
TZOFFSETFROM:+0900
TZOFFSETTO:+0900
TZNAME:JST
DTSTART:20260101T000000
END:STANDARD
END:VTIMEZONE
BEGIN:VEVENT
DTSTART;TZID=Asia/Tokyo:20260327T210000
DTEND;TZID=Asia/Tokyo:20260327T213000
DTSTAMP:20260425T025636
CREATED:20260307T144348Z
LAST-MODIFIED:20260307T145642Z
UID:10708-1774645200-1774647000@blogs.koneko-wakusei.com
SUMMARY:【cluster】そら嬢朗読会 夜のひととき【第十一夜】
DESCRIPTION:本が好きなそら嬢が朗読をいたします。 \nコメント無し、作業のお供にラジオ感覚でのご利用もOKです。 \n  \n週末の夜、文学作品に耳を傾けながらゆったりとした時間をお過ごしください。 \n  \n \n  \n  \n🔽イベントページ🔽 \n準備中
URL:https://blogs.koneko-wakusei.com/event/%e3%80%90cluster%e3%80%91%e3%81%9d%e3%82%89%e5%ac%a2%e6%9c%97%e8%aa%ad%e4%bc%9a-%e5%a4%9c%e3%81%ae%e3%81%b2%e3%81%a8%e3%81%a8%e3%81%8d%e3%80%90%e7%ac%ac%e5%8d%81%e4%b8%80%e5%a4%9c%e3%80%91
LOCATION:cluster
ATTACH;FMTTYPE=image/png:https://blogs.koneko-wakusei.com/wp-content/uploads/2026/02/そら嬢朗読会.png
END:VEVENT
END:VCALENDAR