BEGIN:VCALENDAR
VERSION:2.0
PRODID:-//こねこ惑星　クリエイターズブログ - ECPv6.5.1.5//NONSGML v1.0//EN
CALSCALE:GREGORIAN
METHOD:PUBLISH
X-WR-CALNAME:こねこ惑星　クリエイターズブログ
X-ORIGINAL-URL:https://blogs.koneko-wakusei.com
X-WR-CALDESC:こねこ惑星　クリエイターズブログ のイベント
REFRESH-INTERVAL;VALUE=DURATION:PT1H
X-Robots-Tag:noindex
X-PUBLISHED-TTL:PT1H
BEGIN:VTIMEZONE
TZID:Asia/Tokyo
BEGIN:STANDARD
TZOFFSETFROM:+0900
TZOFFSETTO:+0900
TZNAME:JST
DTSTART:20260101T000000
END:STANDARD
END:VTIMEZONE
BEGIN:VEVENT
DTSTART;TZID=Asia/Tokyo:20260320T223000
DTEND;TZID=Asia/Tokyo:20260320T230000
DTSTAMP:20260422T085859
CREATED:20260317T120531Z
LAST-MODIFIED:20260317T120531Z
UID:10792-1774045800-1774047600@blogs.koneko-wakusei.com
SUMMARY:【cluster】Talk & Bar Lumina Cat ~トークと撮影会~
DESCRIPTION:Talk & Bar Lumina Cat は”ゆるい交流の中でお友達が増やせたら良いな”という店長 塩辛の思いが形になった場所！ \nお久しぶりさんも初めましてさんも全員で仲良くなれる空間を目指しています。 \n  \n毎回違うトークテーマで塩辛店長のお話が聞けるほか、季節やイベントに合わせた豪華なフォトスポットも！ \nぜひおしゃべりや撮影を楽しみに来てください✨ \n  \n \n  \n🩶日時：2026年3月20日(金)　22:30～23:00 \n🩶雑談テーマ：写真で紹介！東北地方での雪体験 \n🩶イベントページ　https://cluster.mu/e/fbb4e1fb-7dac-4005-8d8e-9cf56314550a
URL:https://blogs.koneko-wakusei.com/event/%e3%80%90cluster%e3%80%91talk-bar-lumina-cat-%e3%83%88%e3%83%bc%e3%82%af%e3%81%a8%e6%92%ae%e5%bd%b1%e4%bc%9a
LOCATION:cluster
ATTACH;FMTTYPE=image/png:https://blogs.koneko-wakusei.com/wp-content/uploads/2026/03/260320_Cafe__Bar_Lumina_Cat_.png
END:VEVENT
END:VCALENDAR