BEGIN:VCALENDAR
VERSION:2.0
PRODID:-//こねこ惑星　クリエイターズブログ - ECPv6.5.1.5//NONSGML v1.0//EN
CALSCALE:GREGORIAN
METHOD:PUBLISH
X-WR-CALNAME:こねこ惑星　クリエイターズブログ
X-ORIGINAL-URL:https://blogs.koneko-wakusei.com
X-WR-CALDESC:こねこ惑星　クリエイターズブログ のイベント
REFRESH-INTERVAL;VALUE=DURATION:PT1H
X-Robots-Tag:noindex
X-PUBLISHED-TTL:PT1H
BEGIN:VTIMEZONE
TZID:Asia/Tokyo
BEGIN:STANDARD
TZOFFSETFROM:+0900
TZOFFSETTO:+0900
TZNAME:JST
DTSTART:20250101T000000
END:STANDARD
END:VTIMEZONE
BEGIN:VEVENT
DTSTART;TZID=Asia/Tokyo:20251220T190000
DTEND;TZID=Asia/Tokyo:20251220T200000
DTSTAMP:20260422T065036
CREATED:20251213T092936Z
LAST-MODIFIED:20251213T093604Z
UID:9754-1766257200-1766260800@blogs.koneko-wakusei.com
SUMMARY:【こいけライブ】タイムトラベル
DESCRIPTION:Vシンガーソングライター・こいけのclusterライブ！ \n  \n「タイムトラベル編」と銘打って、いろいろな年代をテーマに歌います。 \n初回は1970・1980年代！聴きなじみのある曲からセレクトし、計6曲を予定しています。\n途中入室・退室OKですので、ぜひお気軽にお立ち寄りください！ \n  \n \n  \n🔽イベントページはこちら🔽 \n【こいけライブ】タイムトラベル（70・80年代特集） | メタバースプラットフォーム cluster（クラスター）「タイムトラベル編」と銘打って、いろいろな年代をテーマに歌ってみるライブです✨ 初回は1970・80年代！計6曲を予定しています。 途中入室・退室OKですので、ぜひお気軽にお立ち寄りください⭐cluster.mu
URL:https://blogs.koneko-wakusei.com/event/%e3%80%90%e3%81%93%e3%81%84%e3%81%91%e3%83%a9%e3%82%a4%e3%83%96%e3%80%91%e3%82%bf%e3%82%a4%e3%83%a0%e3%83%88%e3%83%a9%e3%83%99%e3%83%ab
LOCATION:cluster
ATTACH;FMTTYPE=image/jpeg:https://blogs.koneko-wakusei.com/wp-content/uploads/2025/12/こいけライブ-タイムトラベル.jpeg
END:VEVENT
END:VCALENDAR